BEGIN:VCALENDAR
VERSION:2.0
PRODID:-//NIACC Pappajohn Entrepreneurial Center - ECPv5.1.2.1//NONSGML v1.0//EN
CALSCALE:GREGORIAN
METHOD:PUBLISH
X-WR-CALNAME:NIACC Pappajohn Entrepreneurial Center
X-ORIGINAL-URL:https://www.pappajohncenter.com
X-WR-CALDESC:Events for NIACC Pappajohn Entrepreneurial Center
BEGIN:VTIMEZONE
TZID:UTC
BEGIN:STANDARD
TZOFFSETFROM:+0000
TZOFFSETTO:+0000
TZNAME:UTC
DTSTART:20240101T000000
END:STANDARD
END:VTIMEZONE
BEGIN:VEVENT
DTSTART;TZID=UTC:20241114T130000
DTEND;TZID=UTC:20241114T143000
DTSTAMP:20260419T171546
CREATED:20240730T141106Z
LAST-MODIFIED:20240730T141106Z
UID:5984-1731589200-1731594600@www.pappajohncenter.com
SUMMARY:Business Transition Planning Workshop
DESCRIPTION:\nFuture-proof your business with a succession plan\n\n\n\nDoes your business have a vision for the long-term? Develop the strategies you need to future-proof your business in this free workshop led by the experts. Speakers from The Business Brokers and BrownWinick Law Firm will guide you through everything you need to know about planning for the future. \nSeats are limited - please register in advance to secure your spot! \nKey Topics Covered: \nThree subject-matter experts will guide you through the essentials of protecting your business legacy: \n\nBusiness transition strategies to ensure financial protection for your family & key employees\nBusiness liquidity tax planning\nSales\, operating and transition agreements\nPlanned controls and transfer of interests for closely held businesses\nHow to explore different transition options without creating damage or rumors\nHow to value your business\nHow to market the sale of a business\n\nWho Should Attend? \n\nAttorneys\nBanking Associates\nBrokers\nBusiness Owners\nChamber & Community Leaders\nCPAs\nEconomic Developers\nTrust Agents\n\nWhere: NIACC Pappajohn Center\, Room #117\, 500 College Dr\, Mason City\, IA 50401 \nRegister Now\n\n\n
URL:https://www.pappajohncenter.com/event/business-transition-planning-workshop-3/
CATEGORIES:Workshop
ATTACH;FMTTYPE=image/jpeg:https://www.pappajohncenter.com/wp-content/uploads/2023/03/biz-transition-workshop.jpg
END:VEVENT
END:VCALENDAR