BEGIN:VCALENDAR
VERSION:2.0
PRODID:-//NIACC Pappajohn Entrepreneurial Center - ECPv5.1.2.1//NONSGML v1.0//EN
CALSCALE:GREGORIAN
METHOD:PUBLISH
X-WR-CALNAME:NIACC Pappajohn Entrepreneurial Center
X-ORIGINAL-URL:https://www.pappajohncenter.com
X-WR-CALDESC:Events for NIACC Pappajohn Entrepreneurial Center
BEGIN:VTIMEZONE
TZID:UTC
BEGIN:STANDARD
TZOFFSETFROM:+0000
TZOFFSETTO:+0000
TZNAME:UTC
DTSTART:20240101T000000
END:STANDARD
END:VTIMEZONE
BEGIN:VEVENT
DTSTART;TZID=UTC:20241212T173000
DTEND;TZID=UTC:20241212T200000
DTSTAMP:20260419T131144
CREATED:20240730T140051Z
LAST-MODIFIED:20241029T185544Z
UID:5972-1734024600-1734033600@www.pappajohncenter.com
SUMMARY:Financial Essentials: Entrepreneurship Essentials II
DESCRIPTION:\nUnlock business growth with insight into financial statements and projections\n\n\n\nThe NIACC Pappajohn Center and SBDC proudly present a transformative 3-part series designed to equip aspiring entrepreneurs\, business beginners\, and those seeking to revitalize their entrepreneurial endeavors. Entrepreneurship Essentials is your guide to start mastering the fundamental aspects of business creation\, financial management\, and effective marketing strategies. \nIn the second installment of our series\, Financial Essentials delves into the critical steps required to master your business's finances. \nYour business's financial health is a crucial determinant of its success. In Financial Essentials we demystify financial statements\, empowering you to interpret and leverage these vital tools for decision-making. Discover how to create accurate projections that guide your business growth and unlock valuable insights into your company's fiscal well-being. \nKey Topics Covered: \n\n   Understanding Balance Sheets\, Income Statements\, and Cash Flow Statements\n   Interpreting Financial Data: Ratios and Trends\n   Building Realistic Financial Projections\n   Leveraging Financial Information for Strategic Planning\n\nThis free online seminar is Part II of the NIACC Pappajohn Center & SBDC Entrepreneurship Essentials series. \nRegister Now\n\n\n
URL:https://www.pappajohncenter.com/event/financial-essentials-fall2024/
CATEGORIES:Entrepreneurship Essentials
ATTACH;FMTTYPE=image/jpeg:https://www.pappajohncenter.com/wp-content/uploads/2024/07/Financial-Essentials-12-12-24.jpg
END:VEVENT
END:VCALENDAR