BEGIN:VCALENDAR
VERSION:2.0
PRODID:-//NIACC Pappajohn Entrepreneurial Center - ECPv5.1.2.1//NONSGML v1.0//EN
CALSCALE:GREGORIAN
METHOD:PUBLISH
X-WR-CALNAME:NIACC Pappajohn Entrepreneurial Center
X-ORIGINAL-URL:https://www.pappajohncenter.com
X-WR-CALDESC:Events for NIACC Pappajohn Entrepreneurial Center
BEGIN:VTIMEZONE
TZID:UTC
BEGIN:STANDARD
TZOFFSETFROM:+0000
TZOFFSETTO:+0000
TZNAME:UTC
DTSTART:20240101T000000
END:STANDARD
END:VTIMEZONE
BEGIN:VEVENT
DTSTART;TZID=UTC:20240425T173000
DTEND;TZID=UTC:20240425T200000
DTSTAMP:20260420T085605
CREATED:20240305T145652Z
LAST-MODIFIED:20240305T145652Z
UID:5715-1714066200-1714075200@www.pappajohncenter.com
SUMMARY:Marketing Essentials: The Entrepreneurship Essentials Series
DESCRIPTION:\nUnleash the power of marketing with key essentials for maximum impact\n\n\n\nAre you ready to embark on a journey toward entrepreneurial excellence? The NIACC Pappajohn Center and SBDC proudly present a transformative 3-part series designed to equip aspiring entrepreneurs\, business beginners\, and those seeking to revitalize their entrepreneurial endeavors. Entrepreneurship Essentials is your guide to start mastering the fundamental aspects of business creation\, financial management\, and effective marketing strategies. \nIn the third installment of our series\, Marketing Essentials delves into the dynamic world of marketing and branding\, focusing on the essential task of creating a strategic approach. Elevate your brand and connect with your audience through a strategic blend of digital and traditional marketing methods and develop a well-crafted marketing strategy. Propel your business forward by harnessing the power of modern digital tools such as websites\, domains\, email campaigns\, and social media marketing\, and discover the tactics necessary to build a tribe of passionate customers\, maintain a strong online presence\, and establish a memorable brand. \nKey Topics Covered:\n\nConstruct a Comprehensive Marketing Strategy for Long-Term Success\nBuilding a Consistent and Authentic Brand Identity within Your Marketing Strategy\nCrafting an Effective Online Presence: Websites\, Social Media & Google\nHarnessing the Potential of Text and Email Marketing\nMobilizing Referrals and Conventional Marketing Approaches\n\nFree workshop via Zoom\nRegister Now\n\n\n
URL:https://www.pappajohncenter.com/event/marketing-essentials-the-entrepreneurship-essentials-series/
CATEGORIES:Entrepreneurship Essentials
ATTACH;FMTTYPE=image/jpeg:https://www.pappajohncenter.com/wp-content/uploads/2024/03/marketing-essentials.jpg
END:VEVENT
END:VCALENDAR