BEGIN:VCALENDAR
VERSION:2.0
PRODID:-//NIACC Pappajohn Entrepreneurial Center - ECPv5.1.2.1//NONSGML v1.0//EN
CALSCALE:GREGORIAN
METHOD:PUBLISH
X-WR-CALNAME:NIACC Pappajohn Entrepreneurial Center
X-ORIGINAL-URL:https://www.pappajohncenter.com
X-WR-CALDESC:Events for NIACC Pappajohn Entrepreneurial Center
BEGIN:VTIMEZONE
TZID:UTC
BEGIN:STANDARD
TZOFFSETFROM:+0000
TZOFFSETTO:+0000
TZNAME:UTC
DTSTART:20240101T000000
END:STANDARD
END:VTIMEZONE
BEGIN:VEVENT
DTSTART;TZID=UTC:20240110T090000
DTEND;TZID=UTC:20240110T103000
DTSTAMP:20260420T101632
CREATED:20230802T185753Z
LAST-MODIFIED:20231219T151100Z
UID:5365-1704877200-1704882600@www.pappajohncenter.com
SUMMARY:Tackle Your Technology To-Do List: Conquer Everyday Tech Challenges with Practical Solutions
DESCRIPTION:Join renowned tech expert\, Beth Z\, Your Nerdy Best Friend\, for a witty and practical webinar that cuts through the noise and focuses on the nuts and bolts of regular technology use. This session is designed to address the everyday tech challenges we all face\, providing practical solutions that are relevant to everyone\, regardless of skill level. \nIn this engaging webinar\, Beth Z will guide you through a journey of discovery\, empowering you to: \n\nIdentify Common Tech Hurdles: Uncover the pesky issues that waste your time and cause frustration in your daily tech interactions.\nMaster Tech Basics: From managing passwords to organizing files and decluttering your inbox\, learn the essential skills and best practices that make your tech life smoother and more efficient.\nEmbrace Smart Solutions: Dive into Beth Z's card deck filled with tiny tech steps that deliver big results. These practical tips and tricks will save you time\, reduce stress\, and streamline your technology use.\nBoost Productivity: Gain the confidence and know-how to optimize your tech tools\, troubleshoot common problems\, and tackle your technology to-do list with ease.\n\nThis webinar is your opportunity to gain practical insights and actionable strategies to conquer everyday tech challenges. Whether you're a seasoned tech user or simply looking to enhance your tech skills\, this session is tailored to meet your needs. \nRegister\n\nThis event is part of a two-seminar series provided through partnerships with the NIACC Pappajohn Center\, NIACC Business & Workforce Solutions\, the Clear Lake Area Chamber of Commerce\, and the Mason City Chamber of Commerce. \nSponsored by: \n\n\n\n\n\n\n\n\n\n\n\n\n\n\n\n\n
URL:https://www.pappajohncenter.com/event/tackle-your-technology-to-do-list-conquer-everyday-tech-challenges-with-practical-solutions/
CATEGORIES:Workshop
ATTACH;FMTTYPE=image/jpeg:https://www.pappajohncenter.com/wp-content/uploads/2023/08/Beth-Z-Tackle-Your-Tech-To-Do-List.jpg
END:VEVENT
END:VCALENDAR