BEGIN:VCALENDAR
VERSION:2.0
PRODID:-//NIACC Pappajohn Entrepreneurial Center - ECPv5.1.2.1//NONSGML v1.0//EN
CALSCALE:GREGORIAN
METHOD:PUBLISH
X-WR-CALNAME:NIACC Pappajohn Entrepreneurial Center
X-ORIGINAL-URL:https://www.pappajohncenter.com
X-WR-CALDESC:Events for NIACC Pappajohn Entrepreneurial Center
BEGIN:VTIMEZONE
TZID:UTC
BEGIN:STANDARD
TZOFFSETFROM:+0000
TZOFFSETTO:+0000
TZNAME:UTC
DTSTART:20220101T000000
END:STANDARD
END:VTIMEZONE
BEGIN:VEVENT
DTSTART;TZID=UTC:20221025T170000
DTEND;TZID=UTC:20221025T190000
DTSTAMP:20260420T085210
CREATED:20220927T153658Z
LAST-MODIFIED:20220927T153658Z
UID:4916-1666717200-1666724400@www.pappajohncenter.com
SUMMARY:TechTalk
DESCRIPTION:TechTalk tackles marketing! Join us at Mason City Brewing for an in-depth look at digital marketing and how you can leverage new technologies to reach your audience. Get new insights\, whether you're an established business\, a solopreneur\, or a startup.  \nSponsored by Nelson Media Company.  \nAs always\, your first beer is on us! \n\nRegister for TechTalk\n\n-- \nTechTalk creates a space for sparking new ideas and conversations between innovators\, entrepreneurs\, investors\, educators\, technologists\, community members\, and community partners. TechTalk’s goal is to engage\, encourage\, and elevate technology in North Iowa. \nTechTalk Partners: NIACC Pappajohn Center\, North Iowa Corridor EDC\, Clear Lake Area Chamber of Commerce \n
URL:https://www.pappajohncenter.com/event/techtalk-11/
LOCATION:Mason City Brewing\, 28 E. State St.\, Mason City\, IA\, 50401\, United States
CATEGORIES:TechBrew
ATTACH;FMTTYPE=image/jpeg:https://www.pappajohncenter.com/wp-content/uploads/2022/09/techtalk-october2022.jpg
END:VEVENT
END:VCALENDAR