BEGIN:VCALENDAR
VERSION:2.0
PRODID:-//NIACC Pappajohn Entrepreneurial Center - ECPv5.1.2.1//NONSGML v1.0//EN
CALSCALE:GREGORIAN
METHOD:PUBLISH
X-WR-CALNAME:NIACC Pappajohn Entrepreneurial Center
X-ORIGINAL-URL:https://www.pappajohncenter.com
X-WR-CALDESC:Events for NIACC Pappajohn Entrepreneurial Center
BEGIN:VTIMEZONE
TZID:UTC
BEGIN:STANDARD
TZOFFSETFROM:+0000
TZOFFSETTO:+0000
TZNAME:UTC
DTSTART:20240101T000000
END:STANDARD
END:VTIMEZONE
BEGIN:VEVENT
DTSTART;TZID=UTC:20240423T170000
DTEND;TZID=UTC:20240423T190000
DTSTAMP:20260419T130035
CREATED:20240405T150148Z
LAST-MODIFIED:20240405T150148Z
UID:5769-1713891600-1713898800@www.pappajohncenter.com
SUMMARY:TechTalk: How Small Businesses Can Automate for E-commerce Success
DESCRIPTION:\n\nSmart Selling: How Small Businesses Can Automate for E-Commerce Success\n\n\n\nWondering if automation is too complex for your business? Discover how integrating AI and automation in inventory\, customer service\, and marketing can streamline operations\, reduce costs\, and enhance customer experiences. Unlock automation’s potential to transform your ecommerce venture! \nAt TechTalk\, our featured speaker Tom Altman of Altus CXO will help you discover how you can boost your business by integrating automation essentials into your e-commerce strategy. \nRegister now and join us at TechTalk for new strategies you can put into practice for seamless small business e-commerce. As always\, your first drink is on us! \nSponsored by: Altus CXO \nRegister\n  \nTechTalk creates a space for sparking new ideas and conversations between innovators\, entrepreneurs\, investors\, educators\, technologists\, community members\, and community partners. TechTalk’s goal is to engage\, encourage\, and elevate technology in North Iowa by creating the opportunity for meaningful interactions. Members are interested in adding more value to each month’s event while supporting and growing North Iowa’s creative class\, including tech employees and employers. \nTechTalk is a community-organized event and meets monthly. Learn more or get involved - check us out on Facebook. \nQuestions? Contact us at pappajohn@niacc.edu \n\n\n\n
URL:https://www.pappajohncenter.com/event/techtalk-how-small-businesses-can-automate-for-e-commerce-success/
LOCATION:Mason City Brewing\, 28 E. State St.\, Mason City\, IA\, 50401\, United States
CATEGORIES:TechBrew
ATTACH;FMTTYPE=image/jpeg:https://www.pappajohncenter.com/wp-content/uploads/2024/04/banner-ecommerce-copy.jpg
END:VEVENT
END:VCALENDAR