BEGIN:VCALENDAR
VERSION:2.0
PRODID:-//NIACC Pappajohn Entrepreneurial Center - ECPv5.1.2.1//NONSGML v1.0//EN
CALSCALE:GREGORIAN
METHOD:PUBLISH
X-WR-CALNAME:NIACC Pappajohn Entrepreneurial Center
X-ORIGINAL-URL:https://www.pappajohncenter.com
X-WR-CALDESC:Events for NIACC Pappajohn Entrepreneurial Center
BEGIN:VTIMEZONE
TZID:UTC
BEGIN:STANDARD
TZOFFSETFROM:+0000
TZOFFSETTO:+0000
TZNAME:UTC
DTSTART:20230101T000000
END:STANDARD
END:VTIMEZONE
BEGIN:VEVENT
DTSTART;TZID=UTC:20230523T170000
DTEND;TZID=UTC:20230523T190000
DTSTAMP:20260419T120336
CREATED:20230510T162115Z
LAST-MODIFIED:20230510T162115Z
UID:5232-1684861200-1684868400@www.pappajohncenter.com
SUMMARY:TechTalk: Osage
DESCRIPTION:\n\n\nTechTalk hits the road for May - join us at Limestone Brewer's on May 23rd with our sponsors Riskill and Popp Excavating. We'll be at a new location this month\, but you can still count on finding good conversation\, new ideas\, and a free beer on us! \nTechnology is changing our world in every industry. At the May TechTalk\, we're looking at how technology is helping manage safety. Safety culture\, the role of OSHA\, employee engagement\, foundations to great safety performance - if you need to manage risk at your job\, you need to stop in at TechTalk! \nRegister\n  \nSponsored by Riskill and Popp Excavating of Osage\, IA. \nRiskill provides tomorrow’s safety solutions ~today. Riskill helps manage our clients manage their risks by providing skills to their employees through our training.Riskill provides tomorrow’s safety solutions ~ today. Riskill helps manage our clients manage their risks by providing skills to their employees through our training. \nPopp Excavating\, Inc. was founded in 1965 by Don Popp. His 3 sons\, Kevin\, Kurt and Keith worked with him and eventually bought the business. They are now joined by two of Don’s grandsons\, Travis and Kyle\, making it a 3rd generation company. Today\, they offer site grading\, site utilities\, quarry stripping\, corn loading\, concrete road sawing/core drilling\, demolition\, over excavation\, seeding/erosion control\, GPS/total station\, pipe jetting and hydro excavating. \n-- \nTechTalk creates a space for sparking new ideas and conversations between innovators\, entrepreneurs\, investors\, educators\, technologists\, community members\, and community partners. TechTalk’s goal is to engage\, encourage\, and elevate technology in North Iowa. \nTechTalk Partners: NIACC Pappajohn Center\, North Iowa Corridor EDC\, Clear Lake Area Chamber of Commerce \n\n\n\n
URL:https://www.pappajohncenter.com/event/techtalk-osage/
CATEGORIES:TechBrew
ATTACH;FMTTYPE=image/jpeg:https://www.pappajohncenter.com/wp-content/uploads/2023/05/banner-riskill-copy.jpg
END:VEVENT
END:VCALENDAR