BEGIN:VCALENDAR
VERSION:2.0
PRODID:-//NIACC Pappajohn Entrepreneurial Center - ECPv5.1.2.1//NONSGML v1.0//EN
CALSCALE:GREGORIAN
METHOD:PUBLISH
X-WR-CALNAME:NIACC Pappajohn Entrepreneurial Center
X-ORIGINAL-URL:https://www.pappajohncenter.com
X-WR-CALDESC:Events for NIACC Pappajohn Entrepreneurial Center
BEGIN:VTIMEZONE
TZID:UTC
BEGIN:STANDARD
TZOFFSETFROM:+0000
TZOFFSETTO:+0000
TZNAME:UTC
DTSTART:20240101T000000
END:STANDARD
END:VTIMEZONE
BEGIN:VEVENT
DTSTART;TZID=UTC:20240723T170000
DTEND;TZID=UTC:20240723T190000
DTSTAMP:20260420T084828
CREATED:20240624T210542Z
LAST-MODIFIED:20240624T210542Z
UID:5909-1721754000-1721761200@www.pappajohncenter.com
SUMMARY:TechTalk: Young Professionals Take on Tech
DESCRIPTION:Join us at TechTalk for a panel discussion looking at emergent technology from the eyes of North Iowa’s next generation of professionals and leaders. \nRegister\n  \nTechTalk creates a space for sparking new ideas and conversations between innovators\, entrepreneurs\, investors\, educators\, technologists\, community members\, and community partners. TechTalk’s goal is to engage\, encourage\, and elevate technology in North Iowa by creating the opportunity for meaningful interactions. Members are interested in adding more value to each month’s event while supporting and growing North Iowa’s creative class\, including tech employees and employers. \nTechTalk is a community-organized event and meets monthly. \n
URL:https://www.pappajohncenter.com/event/techtalk-young-professionals/
LOCATION:Lake Time Brewery\, 801 Main Ave\, Clear Lake\, IA\, 50428\, United States
CATEGORIES:TechBrew
ATTACH;FMTTYPE=image/jpeg:https://www.pappajohncenter.com/wp-content/uploads/2024/06/banner-july-23-copy.jpg
END:VEVENT
END:VCALENDAR