BEGIN:VCALENDAR
VERSION:2.0
PRODID:-//NIACC Pappajohn Entrepreneurial Center - ECPv5.1.2.1//NONSGML v1.0//EN
CALSCALE:GREGORIAN
METHOD:PUBLISH
X-WR-CALNAME:NIACC Pappajohn Entrepreneurial Center
X-ORIGINAL-URL:https://www.pappajohncenter.com
X-WR-CALDESC:Events for NIACC Pappajohn Entrepreneurial Center
BEGIN:VTIMEZONE
TZID:UTC
BEGIN:STANDARD
TZOFFSETFROM:+0000
TZOFFSETTO:+0000
TZNAME:UTC
DTSTART:20210101T000000
END:STANDARD
END:VTIMEZONE
BEGIN:VEVENT
DTSTART;TZID=UTC:20210226T110000
DTEND;TZID=UTC:20210226T120000
DTSTAMP:20260419T154400
CREATED:20210115T151341Z
LAST-MODIFIED:20210503T203719Z
UID:3951-1614337200-1614340800@www.pappajohncenter.com
SUMMARY:Financial Friday: When Do You Need a Business Lawyer?
DESCRIPTION:When Do You Need a Business Lawyer? \nJoin us for Financial Friday on Friday\, February 26 at 11am with Samantha Wagner\, JD\, Iowa Legal Aid. \nWatch the recorded session\n  \nFinancial Friday is a continuing part of the Small Business Strategies during COVID-19 series. The NIACC Pappajohn Center & SBDC is working to help our clients combat the uncertainty and provide strategies for your business to innovate\, adapt\, and survive as the economic environment continues to change. \n
URL:https://www.pappajohncenter.com/event/financial-friday-2/
CATEGORIES:Financial Friday,Small Business Strategies during COVID-19
ATTACH;FMTTYPE=image/jpeg:https://www.pappajohncenter.com/wp-content/uploads/2021/01/fb-financial-friday.jpg
END:VEVENT
END:VCALENDAR