BEGIN:VCALENDAR
VERSION:2.0
PRODID:-//NIACC Pappajohn Entrepreneurial Center - ECPv5.1.2.1//NONSGML v1.0//EN
CALSCALE:GREGORIAN
METHOD:PUBLISH
X-WR-CALNAME:NIACC Pappajohn Entrepreneurial Center
X-ORIGINAL-URL:https://www.pappajohncenter.com
X-WR-CALDESC:Events for NIACC Pappajohn Entrepreneurial Center
BEGIN:VTIMEZONE
TZID:UTC
BEGIN:STANDARD
TZOFFSETFROM:+0000
TZOFFSETTO:+0000
TZNAME:UTC
DTSTART:20210101T000000
END:STANDARD
END:VTIMEZONE
BEGIN:VEVENT
DTSTART;TZID=UTC:20210323T170000
DTEND;TZID=UTC:20210323T190000
DTSTAMP:20260423T014335
CREATED:20210305T154832Z
LAST-MODIFIED:20210305T154832Z
UID:4038-1616518800-1616526000@www.pappajohncenter.com
SUMMARY:TechTalk: Cloud Services
DESCRIPTION:The March 2021 TechTalk is sponsored by First Citizens Bank and Heartland Asphalt. Cloud services can be of great benefit to small business\, but is it the right solution for your company? Join us for panel discussion and Q&A all about the cloud\, its surprising applications\, and a look at the opportunities vs the risks.  \nRegister for TechBrew\n  \nTechBrew is a casual monthly networking event bringing together entrepreneurs\, technologists\, business people and investors from across North Iowa. Join like-minded North Iowans for an evening of creative thinking\, conversation\, and connections. \nSupporting partners: NIACC John Pappajohn Entrepreneurial Center\, North Iowa Corridor EDC\, Clear Lake Area Chamber of Commerce\nFounding partner: Technology Association of Iowa (TAI) \n
URL:https://www.pappajohncenter.com/event/techtalk-cloud-services/
CATEGORIES:TechBrew
ATTACH;FMTTYPE=image/jpeg:https://www.pappajohncenter.com/wp-content/uploads/2021/03/techbrew-march2021-cloud.jpg
END:VEVENT
END:VCALENDAR